BEGIN:VCALENDAR
VERSION:2.0
PRODID:Fort Bend County, TX Calendar Creator
METHOD:PUBLISH
BEGIN:VEVENT
DTSTAMP:20211129T084945
DTSTART:20210303T120000
DTEND:20210303T115900
SUMMARY:Sheriff's Office Civil Service Commission | Regular Meeting
DESCRIPTION:
CLASS:PUBLIC
END:VEVENT
END:VCALENDAR
